BEGIN:VCALENDAR
VERSION:2.0
PRODID:icalendar-ruby
CALSCALE:GREGORIAN
METHOD:PUBLISH
BEGIN:VEVENT
DTSTAMP:20260420T122941Z
UID:63-391687@unityofportland.org
DTSTART:20260425T210000Z
DTEND:20260426T000000Z
CLASS:PUBLIC
CREATED:20260412T140016
DESCRIPTION:Join us for an afternoon of fun and laughter!  Bring you favor
 ite Board Game\, or jump in on one of ours!  Bring a snack to share.  Hi
 ker and Camper rules....pack it in....pack it out!  See you there!
LAST-MODIFIED:20260412T140016
LOCATION:Fellowship Hall
SUMMARY:Game Day at Unity
URL;VALUE=URI:https://www.unityofportland.org/events/game-day-at-unity--63/
 2026-04-25
ATTACH;FILENAME=board-game.jpg;FMTTYPE=image/jpeg:https://dq5pwpg1q8ru0.clo
 udfront.net/2026/04/12/21/00/16/7409e600-0eab-4c45-aa5e-7ef1cf2a5dfa/board
 -game.jpg
END:VEVENT
END:VCALENDAR
