BEGIN:VCALENDAR
VERSION:2.0
PRODID:icalendar-ruby
CALSCALE:GREGORIAN
METHOD:PUBLISH
BEGIN:VEVENT
DTSTAMP:20260422T125217Z
UID:64-396836@unityofportland.org
DTSTART:20260426T074500Z
DTEND:20260426T210000Z
CLASS:PUBLIC
CREATED:20260415T104012
DESCRIPTION:This is one of the requirements you can choose to join us in me
 mbership. This workshop is open to all who are somewhat new to Unity and w
 ant to learn more about this Spiritual Path.   
LAST-MODIFIED:20260415T104012
LOCATION:Unity Chapel
SUMMARY:New Thoughts for a New Life
URL;VALUE=URI:https://www.unityofportland.org/events/new-thoughts-for-a-new
 -life--64/2026-04-26
ATTACH;FILENAME=unity-circle-logo.jpg;FMTTYPE=image/jpeg:https://dq5pwpg1q8
 ru0.cloudfront.net/2026/04/15/17/38/58/b0b89503-153e-41ad-86c5-598c11f04ac
 2/unity-circle-logo.jpg
END:VEVENT
END:VCALENDAR
